BEGIN:VCALENDAR
VERSION:2.0
PRODID:-//The Wealth Building CPA - ECPv6.15.18//NONSGML v1.0//EN
CALSCALE:GREGORIAN
METHOD:PUBLISH
X-ORIGINAL-URL:https://www.thewealthbuildingcpa.com
X-WR-CALDESC:Events for The Wealth Building CPA
REFRESH-INTERVAL;VALUE=DURATION:PT1H
X-Robots-Tag:noindex
X-PUBLISHED-TTL:PT1H
BEGIN:VTIMEZONE
TZID:UTC
BEGIN:STANDARD
TZOFFSETFROM:+0000
TZOFFSETTO:+0000
TZNAME:UTC
DTSTART:20200101T000000
END:STANDARD
END:VTIMEZONE
BEGIN:VEVENT
DTSTART;TZID=UTC:20210422T194500
DTEND;TZID=UTC:20210422T204500
DTSTAMP:20260423T120834
CREATED:20210414T122609Z
LAST-MODIFIED:20210415T101418Z
UID:1055-1619120700-1619124300@www.thewealthbuildingcpa.com
SUMMARY:Celebration of Generosity
DESCRIPTION:Join us for a faith-based one-hour broadcast on the power of generosity. From the comfort of your living room\, you will hear compelling speaking and testimony on the impact that your “yes” to irrational generosity can have\, and you can do this among friends. We host conversations about money in an environment that never asks you for donations or anything in return. \n\nDo you want to learn how to give back to your community?\nDo you want to incorporate generosity into your business plan?\nDo you want to start a non-profit to give of your time\, energy\, and resources?\nDo you want to use generosity as a tool for marital and relationship reconciliation?\n\nWe will have Q&A afterward for those who are interested in taking an active step towards giving back.
URL:https://www.thewealthbuildingcpa.com/event/celebration-of-generosity/
ATTACH;FMTTYPE=image/jpeg:https://www.thewealthbuildingcpa.com/wp-content/uploads/2021/04/CELEBRATION-OF-GENEROSITY-FLYER.jpg
END:VEVENT
END:VCALENDAR